BEGIN:VCALENDAR
VERSION:2.0
PRODID:-//Centro Bar &amp; Restaurant - ECPv6.15.17.1//NONSGML v1.0//EN
CALSCALE:GREGORIAN
METHOD:PUBLISH
X-WR-CALNAME:Centro Bar &amp; Restaurant
X-ORIGINAL-URL:https://www.centronewcastle.com.au
X-WR-CALDESC:Events for Centro Bar &amp; Restaurant
REFRESH-INTERVAL;VALUE=DURATION:PT1H
X-Robots-Tag:noindex
X-PUBLISHED-TTL:PT1H
BEGIN:VTIMEZONE
TZID:Australia/Brisbane
BEGIN:STANDARD
TZOFFSETFROM:+1000
TZOFFSETTO:+1000
TZNAME:AEST
DTSTART:20170101T000000
END:STANDARD
END:VTIMEZONE
BEGIN:VEVENT
DTSTART;TZID=Australia/Brisbane:20190706T190000
DTEND;TZID=Australia/Brisbane:20190706T210000
DTSTAMP:20260419T233149
CREATED:20190621T064402Z
LAST-MODIFIED:20190702T071726Z
UID:319-1562439600-1562446800@www.centronewcastle.com.au
SUMMARY:Bolshoi Ballet presents Spartacus LIVE SIMULCAST FROM QPAC
DESCRIPTION:https://www.empiretheatre.com.au/event/720/bolshoi-ballet-presents-spartacus-live-simulcast-from-qpac
URL:https://www.centronewcastle.com.au/event/bolshoi-ballet-presents-spartacus-live-simulcast-from-qpac/
LOCATION:Empire Theatre\, 54-56 Neil Street\, Toowoomba\, QLD\, 4350\, Australia
END:VEVENT
BEGIN:VEVENT
DTSTART;TZID=Australia/Brisbane:20190705T200000
DTEND;TZID=Australia/Brisbane:20190705T220000
DTSTAMP:20260419T233149
CREATED:20190621T063143Z
LAST-MODIFIED:20190702T071754Z
UID:313-1562356800-1562364000@www.centronewcastle.com.au
SUMMARY:Johnny Cash Live
DESCRIPTION:https://www.empiretheatre.com.au/event/659/daniel-thompson-s-johnny-cash-live
URL:https://www.centronewcastle.com.au/event/johnny-cash-live/
LOCATION:Empire Theatre\, 54-56 Neil Street\, Toowoomba\, QLD\, 4350\, Australia
END:VEVENT
BEGIN:VEVENT
DTSTART;TZID=Australia/Brisbane:20190628T193000
DTEND;TZID=Australia/Brisbane:20190628T213000
DTSTAMP:20260419T233149
CREATED:20190621T064110Z
LAST-MODIFIED:20190702T071809Z
UID:316-1561750200-1561757400@www.centronewcastle.com.au
SUMMARY:Queensland Ballet's Dangerous Liaisons
DESCRIPTION:https://www.empiretheatre.com.au/event/621/queensland-ballet-s-dangerous-liaisons
URL:https://www.centronewcastle.com.au/event/queensland-ballets-dangerous-liaisons/
LOCATION:Empire Theatre\, 54-56 Neil Street\, Toowoomba\, QLD\, 4350\, Australia
END:VEVENT
BEGIN:VEVENT
DTSTART;VALUE=DATE:20180921
DTEND;VALUE=DATE:20181001
DTSTAMP:20260419T233149
CREATED:20180903T061026Z
LAST-MODIFIED:20180903T061026Z
UID:202-1537488000-1538351999@www.centronewcastle.com.au
SUMMARY:Carnival of Flowers
DESCRIPTION:
URL:https://www.centronewcastle.com.au/event/carnival-of-flowers/
LOCATION:Toowoomba
END:VEVENT
BEGIN:VEVENT
DTSTART;TZID=Australia/Brisbane:20180712T193000
DTEND;TZID=Australia/Brisbane:20180712T213000
DTSTAMP:20260419T233149
CREATED:20180508T023024Z
LAST-MODIFIED:20180508T023104Z
UID:152-1531423800-1531431000@www.centronewcastle.com.au
SUMMARY:Paris Underground
DESCRIPTION:A new production by Madotti & Vegas – a brand new show with new performances and new performers!  \nStill crazy\, still sexy\, still cool – The Paris Underground Cabaret returns following sell-out performances Australia wide.
URL:https://www.centronewcastle.com.au/event/paris-underground/
LOCATION:Empire Theatre\, 54-56 Neil Street\, Toowoomba\, QLD\, 4350\, Australia
ATTACH;FMTTYPE=image/jpeg:https://www.centronewcastle.com.au/wp-content/uploads/Madotti-and-Vegas-leviation_1-1024x682.jpg
END:VEVENT
BEGIN:VEVENT
DTSTART;TZID=Australia/Brisbane:20180629T190000
DTEND;TZID=Australia/Brisbane:20180630T210000
DTSTAMP:20260419T233149
CREATED:20180508T022349Z
LAST-MODIFIED:20180508T022551Z
UID:149-1530298800-1530392400@www.centronewcastle.com.au
SUMMARY:Queensland Ballet's Swan Lake
DESCRIPTION:Young maiden Odette and her friends are victims of a terrible spell that turns them into swans by day\, and only at night do they return to human form…
URL:https://www.centronewcastle.com.au/event/queensland-ballets-swan-lake/
LOCATION:Empire Theatre\, 54-56 Neil Street\, Toowoomba\, QLD\, 4350\, Australia
ATTACH;FMTTYPE=image/png:https://www.centronewcastle.com.au/wp-content/uploads/Screen-Shot-2018-02-13-at-10.18.32-am.png
END:VEVENT
BEGIN:VEVENT
DTSTART;TZID=Australia/Brisbane:20180525T200000
DTEND;TZID=Australia/Brisbane:20180525T230000
DTSTAMP:20260419T233149
CREATED:20180508T020708Z
LAST-MODIFIED:20180508T021850Z
UID:138-1527278400-1527289200@www.centronewcastle.com.au
SUMMARY:Nancye Hayes and Todd McKenney in Bosom Buddies
DESCRIPTION:Nancye Hayes and Todd McKenney are pals\, chums\, bosom buddies. Both are multi award winners and true showbiz legends. In this new show\, they reflect on their stage careers and their lives off stage as well as on!
URL:https://www.centronewcastle.com.au/event/nancye-hayes-and-todd-mckenney-in-bosom-buddies/
LOCATION:Empire Theatre\, 54-56 Neil Street\, Toowoomba\, QLD\, 4350\, Australia
ATTACH;FMTTYPE=image/jpeg:https://www.centronewcastle.com.au/wp-content/uploads/r0_51_3827_2517_w1200_h678_fmax.jpg
END:VEVENT
END:VCALENDAR